BEGIN:VCALENDAR
VERSION:2.0
PRODID:-//Squarespace Inc/Squarespace 6//v6//EN
BEGIN:VEVENT
UID:51d242fbe4b0c246ca8fb8a1@squarespace.com
DTSTAMP:20190417T044606Z
DTSTART:20190503T220000Z
DTEND:20190504T084000Z
SUMMARY:Blackburn Lake primary school. Outdoors Mother's Day Free family po
 rtrait for everyone attending !
GEO:-37.82775;145.159913
LOCATION:Blackburn Lake\, Lake road\, Blackburn\, 3130\, Victoria
END:VEVENT
END:VCALENDAR
