BEGIN:VCALENDAR
VERSION:2.0
PRODID:-//Squarespace Inc/Squarespace 6//v6//EN
BEGIN:VEVENT
UID:5cb6acde71c10b68662154d6@squarespace.com
DTSTAMP:20190417T051022Z
DTSTART:20190510T220000Z
DTEND:20190511T070000Z
SUMMARY:Goodstart Beaumaris Mother's Day Free family portrait !
GEO:-37.985867;145.035535
LOCATION:Goodstart Beaumaris\, 4 Emily Street\, Beaumaris\, VIC\, 3193\, Au
 stralia
END:VEVENT
END:VCALENDAR
